BEGIN:VCALENDAR
VERSION:2.0
PRODID:-//South Florida General Service Area 15 - ECPv6.15.20//NONSGML v1.0//EN
CALSCALE:GREGORIAN
METHOD:PUBLISH
X-WR-CALNAME:South Florida General Service Area 15
X-ORIGINAL-URL:https://area15aa.org
X-WR-CALDESC:Events for South Florida General Service Area 15
REFRESH-INTERVAL;VALUE=DURATION:PT1H
X-Robots-Tag:noindex
X-PUBLISHED-TTL:PT1H
BEGIN:VTIMEZONE
TZID:UTC
BEGIN:STANDARD
TZOFFSETFROM:+0000
TZOFFSETTO:+0000
TZNAME:UTC
DTSTART:20220101T000000
END:STANDARD
END:VTIMEZONE
BEGIN:VEVENT
DTSTART;TZID=UTC:20230714T180000
DTEND;TZID=UTC:20230716T180000
DTSTAMP:20260422T225254
CREATED:20230404T024112Z
LAST-MODIFIED:20230430T175628Z
UID:6462-1689357600-1689530400@area15aa.org
SUMMARY:South Florida Area 15 General Service Assembly
DESCRIPTION:              
URL:https://area15aa.org/event/south-florida-area-15-general-service-assembly-2/
LOCATION:Tampa Airport Marriott\, 4200 George J Bean Pkwy\, Tampa\, FL\, 33607\, United States
CATEGORIES:Quarterly Assemblies
END:VEVENT
END:VCALENDAR