BEGIN:VCALENDAR
VERSION:2.0
PRODID:-//South Florida General Service Area 15 - ECPv6.15.20//NONSGML v1.0//EN
CALSCALE:GREGORIAN
METHOD:PUBLISH
X-WR-CALNAME:South Florida General Service Area 15
X-ORIGINAL-URL:https://area15aa.org
X-WR-CALDESC:Events for South Florida General Service Area 15
REFRESH-INTERVAL;VALUE=DURATION:PT1H
X-Robots-Tag:noindex
X-PUBLISHED-TTL:PT1H
BEGIN:VTIMEZONE
TZID:America/New_York
BEGIN:DAYLIGHT
TZOFFSETFROM:-0500
TZOFFSETTO:-0400
TZNAME:EDT
DTSTART:20230312T070000
END:DAYLIGHT
BEGIN:STANDARD
TZOFFSETFROM:-0400
TZOFFSETTO:-0500
TZNAME:EST
DTSTART:20231105T060000
END:STANDARD
BEGIN:DAYLIGHT
TZOFFSETFROM:-0500
TZOFFSETTO:-0400
TZNAME:EDT
DTSTART:20240310T070000
END:DAYLIGHT
BEGIN:STANDARD
TZOFFSETFROM:-0400
TZOFFSETTO:-0500
TZNAME:EST
DTSTART:20241103T060000
END:STANDARD
BEGIN:DAYLIGHT
TZOFFSETFROM:-0500
TZOFFSETTO:-0400
TZNAME:EDT
DTSTART:20250309T070000
END:DAYLIGHT
BEGIN:STANDARD
TZOFFSETFROM:-0400
TZOFFSETTO:-0500
TZNAME:EST
DTSTART:20251102T060000
END:STANDARD
END:VTIMEZONE
BEGIN:VEVENT
DTSTART;VALUE=DATE:20240712
DTEND;VALUE=DATE:20240715
DTSTAMP:20260422T055238
CREATED:20240408T132335Z
LAST-MODIFIED:20240410T003101Z
UID:8270-1720742400-1721001599@area15aa.org
SUMMARY:South Florida General Service Area 15 Area Assembly
DESCRIPTION:  \nWestin Cape Coral Resort at Marina Village\n5951 Silver King Blvd.\nCape Coral\, FL 33914\nJuly\, 12-14 2024\nHosted by District 7\nTelephone for reservations:\nCall (800) 937-8461\nHotel Reservations Link
URL:https://area15aa.org/event/8270/
LOCATION:Westin Cape Coral Resort at Marina Village\, 5951 Silver King Blvd.\, Cape Coral\, FL\, 33914\, United States
CATEGORIES:Quarterly Assemblies
END:VEVENT
END:VCALENDAR